BEGIN:VCALENDAR
VERSION:2.0
PRODID:-//wp-events-plugin.com//7.2.3.1//EN
TZID:America/Los_Angeles
X-WR-TIMEZONE:America/Los_Angeles
BEGIN:VEVENT
UID:102@ilsca.com
DTSTART;TZID=America/Los_Angeles:20260117T110000
DTEND;TZID=America/Los_Angeles:20260502T120000
DTSTAMP:20251205T041447Z
URL:https://ilsca.com/events/spanish-2-kids-ages-3-5-sat/
SUMMARY:Kids Spanish 2- Ages 3-5\, Sat
DESCRIPTION:Class Information\nAges: For children 3 to 5 years old.\nLevel:
  This is an advanced class designed for students who have already been int
 roduced to Spanish and are ready to go beyond the beginner level.\nDescrip
 tion: In this drop-off class\, children will build on their foundational S
 panish through extended vocabulary\, sentence formation\, and more complex
  interactive activities. Ideal for young learners with prior exposure to S
 panish.\nNo Class: Please note\, this class will not meet on March 28\nBy 
 registering\, you agree to the terms outlined in our Student Agreement and
  Refund Policy.
ATTACH;FMTTYPE=image/jpeg:https://ilsca.com/wp-content/uploads/2024/12/lea
 rn-Spanish.png
CATEGORIES:Spanish
LOCATION:Pitzer College\, 1050 North Mills ave\, Claremont\, California\, 9
 1711\, United States
X-APPLE-STRUCTURED-LOCATION;VALUE=URI;X-ADDRESS=1050 North Mills ave\, Clar
 emont\, California\, 91711\, United States;X-APPLE-RADIUS=100;X-TITLE=Pitz
 er College:geo:0,0
END:VEVENT
BEGIN:VTIMEZONE
TZID:America/Los_Angeles
X-LIC-LOCATION:America/Los_Angeles
BEGIN:STANDARD
DTSTART:20251102T010000
TZOFFSETFROM:-0700
TZOFFSETTO:-0800
TZNAME:PST
END:STANDARD
BEGIN:DAYLIGHT
DTSTART:20260308T030000
TZOFFSETFROM:-0800
TZOFFSETTO:-0700
TZNAME:PDT
END:DAYLIGHT
END:VTIMEZONE
END:VCALENDAR