BEGIN:VCALENDAR
VERSION:2.0
PRODID:-//wp-events-plugin.com//7.2.3.1//EN
TZID:America/Los_Angeles
X-WR-TIMEZONE:America/Los_Angeles
BEGIN:VEVENT
UID:83@ilsca.com
DTSTART;TZID=America/Los_Angeles:20260113T163000
DTEND;TZID=America/Los_Angeles:20260428T173000
DTSTAMP:20251219T194950Z
URL:https://ilsca.com/events/spanish-2-kids-ages-6-12-online-tue-2/
SUMMARY:Kids Spanish 2 - Ages 6-12\, Online Tue
DESCRIPTION:Class Information\nAges: For children 6 to 12 years old.\nLangu
 age Level: This is an advanced class designed for students who have alread
 y been introduced to Spanish and are ready to go beyond the beginner level
 .\nDescription: This class meets online only where children participate in
 dependently. Through engaging songs\, games\, and hands-on activities\, yo
 ung learners are introduced to Spanish in a fun\, nurturing environment.\n
 No Class: Please note\, this class will not meet on February 17 and March 
 31\nBy registering\, you agree to the terms outlined in our Student Agreem
 ent and Refund Policy.\nIn the comment section please list the students ag
 e
ATTACH;FMTTYPE=image/jpeg:https://ilsca.com/wp-content/uploads/2024/12/lea
 rn-Spanish.png
CATEGORIES:Spanish
END:VEVENT
BEGIN:VTIMEZONE
TZID:America/Los_Angeles
X-LIC-LOCATION:America/Los_Angeles
BEGIN:STANDARD
DTSTART:20251102T010000
TZOFFSETFROM:-0700
TZOFFSETTO:-0800
TZNAME:PST
END:STANDARD
BEGIN:DAYLIGHT
DTSTART:20260308T030000
TZOFFSETFROM:-0800
TZOFFSETTO:-0700
TZNAME:PDT
END:DAYLIGHT
END:VTIMEZONE
END:VCALENDAR