BEGIN:VCALENDAR
VERSION:2.0
PRODID:-//wp-events-plugin.com//7.2.3.1//EN
TZID:America/Los_Angeles
X-WR-TIMEZONE:America/Los_Angeles
BEGIN:VEVENT
UID:140@ilsca.com
DTSTART;TZID=America/Los_Angeles:20260610T183000
DTEND;TZID=America/Los_Angeles:20260729T193000
DTSTAMP:20260207T032612Z
URL:https://ilsca.com/events/spanish-3-for-adults-c0nversation-online-wed/
SUMMARY:Adults Spanish 3  (Conversation) - Online Wed
DESCRIPTION: Class Information\nAges: Adults 18+Language Level: For adults 
 who have completed Spanish Conversation 2 or have equivalent experience\nD
 escription:This online class is designed for adults with an established fo
 undation in Spanish who are ready to communicate with greater fluency and 
 confidence. Lessons focus on sustained conversation\, clearer expression\,
  and understanding more complex ideas through guided\, real-life discussio
 ns.\nStudents engage in longer conversations\, expand vocabulary\, and str
 engthen grammar in context while exploring a wider range of everyday and p
 rofessional topics. The supportive virtual environment encourages active p
 articipation and steady progress\, helping students feel comfortable think
 ing\, responding\, and expressing themselves in Spanish with greater ease.
 \nThis class is ideal for adults who want to move beyond structured practi
 ce and develop more natural\, confident communication in Spanish—from th
 e convenience of home.\nNo Class: Please note\, this class will not meet J
 uly 1st.\nBy registering\, you agree to the terms outlined in our Student 
 Agreement and Refund Policy.
ATTACH;FMTTYPE=image/jpeg:https://ilsca.com/wp-content/uploads/2024/12/lea
 rn-Spanish.png
CATEGORIES:Spanish
LOCATION:Pitzer College\, 1050 North Mills ave\, Claremont\, California\, 9
 1711\, United States
X-APPLE-STRUCTURED-LOCATION;VALUE=URI;X-ADDRESS=1050 North Mills ave\, Clar
 emont\, California\, 91711\, United States;X-APPLE-RADIUS=100;X-TITLE=Pitz
 er College:geo:0,0
END:VEVENT
BEGIN:VTIMEZONE
TZID:America/Los_Angeles
X-LIC-LOCATION:America/Los_Angeles
BEGIN:DAYLIGHT
DTSTART:20260308T030000
TZOFFSETFROM:-0800
TZOFFSETTO:-0700
TZNAME:PDT
END:DAYLIGHT
END:VTIMEZONE
END:VCALENDAR