BEGIN:VCALENDAR
VERSION:2.0
PRODID:-//wp-events-plugin.com//7.2.3.1//EN
TZID:America/Los_Angeles
X-WR-TIMEZONE:America/Los_Angeles
BEGIN:VEVENT
UID:107@ilsca.com
DTSTART;TZID=America/Los_Angeles:20260117T130000
DTEND;TZID=America/Los_Angeles:20260502T140000
DTSTAMP:20251205T041939Z
URL:https://ilsca.com/events/spanish-4-adults-sat/
SUMMARY:Adults Spanish 4\, Sat
DESCRIPTION: Class Information\nAges: For adults 18 years and older.\nLevel
 : This class is a continuation of Spanish Three and is designed for adults
  with intermediate Spanish skills.\nDescription: In this class\, you will 
 continue to develop your speaking and communication skills. You will engag
 e in more complex conversations\, practice advanced grammar\, and explore 
 a wider range of topics. This class will help you speak Spanish more fluen
 tly and confidently in everyday and professional settings.\nNo Class: Plea
 se note\, this class will not meet on March 30\nBy registering\, you agree
  to the terms outlined in our Student Agreement and Refund Policy.
ATTACH;FMTTYPE=image/jpeg:https://ilsca.com/wp-content/uploads/2024/12/lea
 rn-Spanish.png
CATEGORIES:Spanish
LOCATION:Pitzer College\, 1050 North Mills ave\, Claremont\, California\, 9
 1711\, United States
X-APPLE-STRUCTURED-LOCATION;VALUE=URI;X-ADDRESS=1050 North Mills ave\, Clar
 emont\, California\, 91711\, United States;X-APPLE-RADIUS=100;X-TITLE=Pitz
 er College:geo:0,0
END:VEVENT
BEGIN:VTIMEZONE
TZID:America/Los_Angeles
X-LIC-LOCATION:America/Los_Angeles
BEGIN:STANDARD
DTSTART:20251102T010000
TZOFFSETFROM:-0700
TZOFFSETTO:-0800
TZNAME:PST
END:STANDARD
BEGIN:DAYLIGHT
DTSTART:20260308T030000
TZOFFSETFROM:-0800
TZOFFSETTO:-0700
TZNAME:PDT
END:DAYLIGHT
END:VTIMEZONE
END:VCALENDAR