BEGIN:VCALENDAR
VERSION:2.0
PRODID:-//wp-events-plugin.com//7.2.3.1//EN
TZID:America/Los_Angeles
X-WR-TIMEZONE:America/Los_Angeles
BEGIN:VEVENT
UID:101@ilsca.com
DTSTART;TZID=America/Los_Angeles:20260117T110000
DTEND;TZID=America/Los_Angeles:20260502T120000
DTSTAMP:20260105T031732Z
URL:https://ilsca.com/events/spanish-5-adults-online-sat-2/
SUMMARY:Adults Spanish 5 \, Online Sat
DESCRIPTION:Class Information\nAges: For adults 18 years and older.\nLangua
 ge Level: This is an advanced class designed for adults who have completed
  Spanish 4 or have equivalent experience.\nDescription: In this class\, yo
 u will focus on speaking and communicating in Spanish. You will practice r
 eal-life conversations\, improve your vocabulary and grammar\, and learn h
 ow to express yourself clearly. This class helps you gain confidence in us
 ing Spanish in everyday situations.\nNo Class: Please note\, this class wi
 ll not meet on Feb 14 and Mar 28\nBy registering\, you agree to the terms 
 outlined in our Student Agreement and Refund Policy.\n&nbsp\;
ATTACH;FMTTYPE=image/jpeg:https://ilsca.com/wp-content/uploads/2024/12/lea
 rn-Spanish.png
CATEGORIES:Spanish
END:VEVENT
BEGIN:VTIMEZONE
TZID:America/Los_Angeles
X-LIC-LOCATION:America/Los_Angeles
BEGIN:STANDARD
DTSTART:20251102T010000
TZOFFSETFROM:-0700
TZOFFSETTO:-0800
TZNAME:PST
END:STANDARD
BEGIN:DAYLIGHT
DTSTART:20260308T030000
TZOFFSETFROM:-0800
TZOFFSETTO:-0700
TZNAME:PDT
END:DAYLIGHT
END:VTIMEZONE
END:VCALENDAR