BEGIN:VCALENDAR
VERSION:2.0
PRODID:-//wp-events-plugin.com//7.2.3.1//EN
TZID:America/Los_Angeles
X-WR-TIMEZONE:America/Los_Angeles
BEGIN:VEVENT
UID:110@ilsca.com
DTSTART;TZID=America/Los_Angeles:20260115T173000
DTEND;TZID=America/Los_Angeles:20260430T183000
DTSTAMP:20251205T040521Z
URL:https://ilsca.com/events/spanish-beginner-adults-thu-2/
SUMMARY:Adults Spanish beginner\, Thu
DESCRIPTION:Class Information\nAges: For ages 18 plus\nLanguage Level: Desi
 gned for children with zero to little Spanish knowledge.\nDescription: Thi
 s is a drop-off class where adults (teens with teacher permission) partici
 pate independently. Through engaging songs\, games\, and hands-on activiti
 es\, young learners are introduced to Spanish in a fun\, nurturing environ
 ment.\nNo Class: Please note\, this class will not meet on February 19 and
  April 2\nBy registering\, you agree to the terms outlined in our Student 
 Agreement and Refund Policy.
ATTACH;FMTTYPE=image/jpeg:https://ilsca.com/wp-content/uploads/2024/12/lea
 rn-Spanish.png
CATEGORIES:Spanish
LOCATION:Grace Lutheran\, 2108 N Euclid Ave\, Upland\, Ca\, 91784\, United 
 States
X-APPLE-STRUCTURED-LOCATION;VALUE=URI;X-ADDRESS=2108 N Euclid Ave\, Upland\
 , Ca\, 91784\, United States;X-APPLE-RADIUS=100;X-TITLE=Grace Lutheran:geo
 :0,0
END:VEVENT
BEGIN:VTIMEZONE
TZID:America/Los_Angeles
X-LIC-LOCATION:America/Los_Angeles
BEGIN:STANDARD
DTSTART:20251102T010000
TZOFFSETFROM:-0700
TZOFFSETTO:-0800
TZNAME:PST
END:STANDARD
BEGIN:DAYLIGHT
DTSTART:20260308T030000
TZOFFSETFROM:-0800
TZOFFSETTO:-0700
TZNAME:PDT
END:DAYLIGHT
END:VTIMEZONE
END:VCALENDAR