BEGIN:VCALENDAR
VERSION:2.0
PRODID:-//wp-events-plugin.com//7.2.3.1//EN
TZID:America/Los_Angeles
X-WR-TIMEZONE:America/Los_Angeles
BEGIN:VEVENT
UID:103@ilsca.com
DTSTART;TZID=America/Los_Angeles:20260117T120000
DTEND;TZID=America/Los_Angeles:20260502T130000
DTSTAMP:20251205T041740Z
URL:https://ilsca.com/events/spanish-conversation-adults-sat/
SUMMARY:Adults  Spanish Conversation\, Sat
DESCRIPTION:Class Information\n\n\n 	\nAges: Adults 18+\n\n 	\nLanguage Lev
 el: Advanced – for adults who can hold basic conversations in Spanish\n\
 n 	\nDescription: This class is designed to help you speak and communicate
  confidently in Spanish. You’ll practice real-life conversations\, expan
 d your vocabulary and grammar\, and learn to express yourself clearly in e
 veryday situations. You’ll feel more comfortable using Spanish in real-w
 orld interactions.\n\n 	\nNo Class: Please note that the class will not me
 et on March 28\n\n 	\nAgreement: By registering\, you agree to the terms o
 utlined in our  Student Agreement and Refund Policy.\n\n\n&nbsp\;
ATTACH;FMTTYPE=image/jpeg:https://ilsca.com/wp-content/uploads/2024/12/lea
 rn-Spanish.png
CATEGORIES:Spanish
LOCATION:Pitzer College\, 1050 North Mills ave\, Claremont\, California\, 9
 1711\, United States
X-APPLE-STRUCTURED-LOCATION;VALUE=URI;X-ADDRESS=1050 North Mills ave\, Clar
 emont\, California\, 91711\, United States;X-APPLE-RADIUS=100;X-TITLE=Pitz
 er College:geo:0,0
END:VEVENT
BEGIN:VTIMEZONE
TZID:America/Los_Angeles
X-LIC-LOCATION:America/Los_Angeles
BEGIN:STANDARD
DTSTART:20251102T010000
TZOFFSETFROM:-0700
TZOFFSETTO:-0800
TZNAME:PST
END:STANDARD
BEGIN:DAYLIGHT
DTSTART:20260308T030000
TZOFFSETFROM:-0800
TZOFFSETTO:-0700
TZNAME:PDT
END:DAYLIGHT
END:VTIMEZONE
END:VCALENDAR