BEGIN:VCALENDAR
VERSION:2.0
PRODID:-//wp-events-plugin.com//7.2.3.1//EN
TZID:America/Los_Angeles
X-WR-TIMEZONE:America/Los_Angeles
BEGIN:VEVENT
UID:60@ilsca.com
DTSTART;TZID=America/Los_Angeles:20260115T183000
DTEND;TZID=America/Los_Angeles:20260430T193000
DTSTAMP:20251204T213620Z
URL:https://ilsca.com/events/spanish-conversation-adults-thu-2/
SUMMARY:Adults Spanish Conversation\, Thu
DESCRIPTION:Class Information\nAges: For adults 18 years and older.\nLangua
 ge Level: This is an advanced class designed for adults who have completed
  beginner Spanish or have equivalent experience.\nDescription: In this cla
 ss\, you will focus on speaking and communicating in Spanish. You will pra
 ctice real-life conversations\, improve your vocabulary and grammar\, and 
 learn how to express yourself clearly. This class helps you gain confidenc
 e in using Spanish in everyday situations.\nNo Class: Please note\, this c
 lass will not meet on February 19 and April 2\nBy registering\, you agree 
 to the terms outlined in our Student Agreement and Refund Policy.\n&nbsp\;
ATTACH;FMTTYPE=image/jpeg:https://ilsca.com/wp-content/uploads/2024/12/lea
 rn-Spanish.png
CATEGORIES:Spanish
LOCATION:Grace Lutheran\, 2108 N Euclid Ave\, Upland\, Ca\, 91784\, United 
 States
X-APPLE-STRUCTURED-LOCATION;VALUE=URI;X-ADDRESS=2108 N Euclid Ave\, Upland\
 , Ca\, 91784\, United States;X-APPLE-RADIUS=100;X-TITLE=Grace Lutheran:geo
 :0,0
END:VEVENT
BEGIN:VTIMEZONE
TZID:America/Los_Angeles
X-LIC-LOCATION:America/Los_Angeles
BEGIN:STANDARD
DTSTART:20251102T010000
TZOFFSETFROM:-0700
TZOFFSETTO:-0800
TZNAME:PST
END:STANDARD
BEGIN:DAYLIGHT
DTSTART:20260308T030000
TZOFFSETFROM:-0800
TZOFFSETTO:-0700
TZNAME:PDT
END:DAYLIGHT
END:VTIMEZONE
END:VCALENDAR