BEGIN:VCALENDAR
VERSION:2.0
PRODID:-//wp-events-plugin.com//7.2.3.1//EN
TZID:America/Los_Angeles
X-WR-TIMEZONE:America/Los_Angeles
BEGIN:VEVENT
UID:139@ilsca.com
DTSTART;TZID=America/Los_Angeles:20260610T183000
DTEND;TZID=America/Los_Angeles:20260729T193000
DTSTAMP:20260207T032457Z
URL:https://ilsca.com/events/spanish-for-adults-beginner-online-wed/
SUMMARY:Adults Spanish (Beginner)\, Online Wed
DESCRIPTION:Class Information\nAges: Adults 18+Language Level: No prior Spa
 nish experience required\nDescription:This online class offers adult learn
 ers a supportive and confidence-building introduction to Spanish in a frie
 ndly\, interactive virtual environment. Designed for beginners\, lessons f
 ocus on practical conversation and everyday communication so students can 
 begin using Spanish comfortably from the start.\nThrough guided speaking p
 ractice\, cultural context\, and hands-on activities adapted for online le
 arning\, students build a strong foundation in Spanish while gaining confi
 dence step by step. The emphasis is on progress\, participation\, and real
 -life use—making this class ideal for adults who want to learn Spanish i
 n a relaxed\, encouraging way from home.\nNo Class: Please note\, this cla
 ss will not meet on July 1st.\nBy registering\, you agree to the terms out
 lined in our Student Agreement and Refund Policy.
ATTACH;FMTTYPE=image/jpeg:https://ilsca.com/wp-content/uploads/2024/12/lea
 rn-Spanish.png
CATEGORIES:Spanish
END:VEVENT
BEGIN:VTIMEZONE
TZID:America/Los_Angeles
X-LIC-LOCATION:America/Los_Angeles
BEGIN:DAYLIGHT
DTSTART:20260308T030000
TZOFFSETFROM:-0800
TZOFFSETTO:-0700
TZNAME:PDT
END:DAYLIGHT
END:VTIMEZONE
END:VCALENDAR