BEGIN:VCALENDAR
VERSION:2.0
PRODID:-//wp-events-plugin.com//7.2.3.1//EN
TZID:America/Los_Angeles
X-WR-TIMEZONE:America/Los_Angeles
BEGIN:VEVENT
UID:138@ilsca.com
DTSTART;TZID=America/Los_Angeles:20260610T163000
DTEND;TZID=America/Los_Angeles:20260729T173000
DTSTAMP:20260327T024233Z
URL:https://ilsca.com/events/spanish-for-kids-1conversation-ages-6-12-onli
 ne-wed/
SUMMARY:Kids Spanish 1(Conversation) - Ages  6-12\,  Online Wed
DESCRIPTION:Class Information\nAges: Children 6–12Language Level: No prio
 r Spanish experience required\nDescription:This online class gives childre
 n a joyful and confidence-building introduction to Spanish in a supportive
 \, engaging virtual classroom. Students participate independently while in
 structors provide clear guidance\, encouragement\, and structure.\nThrough
  songs\, games\, movement\, and interactive activities designed for online
  learning\, children begin learning Spanish naturally while having fun. Th
 e focus is on participation\, comfort\, and early communication—helping 
 students feel successful and excited to keep learning from the very first 
 class.\nNo Class: Please note\, this class will not meet on July 1.\nBy re
 gistering\, you agree to the terms outlined in our Student Agreement and R
 efund Policy.
ATTACH;FMTTYPE=image/jpeg:https://ilsca.com/wp-content/uploads/2024/12/lea
 rn-Spanish.png
CATEGORIES:Spanish
END:VEVENT
BEGIN:VTIMEZONE
TZID:America/Los_Angeles
X-LIC-LOCATION:America/Los_Angeles
BEGIN:DAYLIGHT
DTSTART:20260308T030000
TZOFFSETFROM:-0800
TZOFFSETTO:-0700
TZNAME:PDT
END:DAYLIGHT
END:VTIMEZONE
END:VCALENDAR