BEGIN:VCALENDAR
VERSION:2.0
PRODID:-//wp-events-plugin.com//7.2.3.1//EN
TZID:America/Los_Angeles
X-WR-TIMEZONE:America/Los_Angeles
BEGIN:VEVENT
UID:136@ilsca.com
DTSTART;TZID=America/Los_Angeles:20260609T163000
DTEND;TZID=America/Los_Angeles:20260728T173000
DTSTAMP:20260207T032017Z
URL:https://ilsca.com/events/spanish-for-kids-2-conversation-ages-6-12-onl
 ine-tue/
SUMMARY:Kids Spanish 2 (Conversation) - Ages 6-12\, Online Tue
DESCRIPTION:Class Information\nAges: Children 6–12Language Level: For stu
 dents who have been introduced to Spanish and are ready to move beyond the
  beginner level\nDescription:Spanish Conversation 2 is the next step for c
 hildren who already have basic Spanish exposure and are ready to use the l
 anguage with greater confidence. In this online class\, students participa
 te independently in a supportive\, engaging virtual classroom led by encou
 raging instructors.\nThrough interactive conversation practice\, songs\, g
 ames\, movement\, and hands-on activities adapted for online learning\, ch
 ildren strengthen listening and speaking skills while expanding vocabulary
  and understanding. The focus is on communication\, participation\, and co
 nfidence—helping students feel comfortable responding and expressing the
 mselves in Spanish naturally and joyfully from home.\nNo Class: Please not
 e\, this class will not meet on July 7.\nBy registering\, you agree to the
  terms outlined in our Student Agreement and Refund Policy.\nIn the commen
 t section please list the students age
ATTACH;FMTTYPE=image/jpeg:https://ilsca.com/wp-content/uploads/2024/12/lea
 rn-Spanish.png
CATEGORIES:Spanish
END:VEVENT
BEGIN:VTIMEZONE
TZID:America/Los_Angeles
X-LIC-LOCATION:America/Los_Angeles
BEGIN:DAYLIGHT
DTSTART:20260308T030000
TZOFFSETFROM:-0800
TZOFFSETTO:-0700
TZNAME:PDT
END:DAYLIGHT
END:VTIMEZONE
END:VCALENDAR