BEGIN:VCALENDAR
VERSION:2.0
PRODID:-//wp-events-plugin.com//7.2.3.1//EN
TZID:America/Los_Angeles
X-WR-TIMEZONE:America/Los_Angeles
BEGIN:VEVENT
UID:93@ilsca.com
DTSTART;TZID=America/Los_Angeles:20260117T090000
DTEND;TZID=America/Los_Angeles:20260502T100000
DTSTAMP:20251204T214043Z
URL:https://ilsca.com/events/spanish-heritage-conversation-kids-ages-5-12-
 sat-2/
SUMMARY:Kids Spanish Heritage Conversation - Ages 5-12\, Sat
DESCRIPTION:Class Information\nAges: For Kids 5 - 12  years.\nLanguage Lev
 el: This is an advanced class designed for kids who can speak Spanish or a
 re enrolled in a DLI (Dual  Language Immersion) program at school.\nIn th
 is class\, you'll develop your Spanish speaking and communication skills t
 hrough fun stories\, songs\, and interactive activities. You’ll practice
  everyday conversations\, expand your vocabulary\, and improve your writin
 g—all while learning to express yourself clearly and confidently. This c
 ourse is designed to boost your ability to use Spanish naturally in real-l
 ife situations.\nNo Class: Please note\, this class will not meet on March
  28\nBy registering\, you agree to the terms outlined in our Student Agree
 ment and Refund Policy.\n&nbsp\;
ATTACH;FMTTYPE=image/jpeg:https://ilsca.com/wp-content/uploads/2024/12/lea
 rn-Spanish.png
CATEGORIES:Spanish
LOCATION:Pitzer College\, 1050 North Mills ave\, Claremont\, California\, 9
 1711\, United States
X-APPLE-STRUCTURED-LOCATION;VALUE=URI;X-ADDRESS=1050 North Mills ave\, Clar
 emont\, California\, 91711\, United States;X-APPLE-RADIUS=100;X-TITLE=Pitz
 er College:geo:0,0
END:VEVENT
BEGIN:VTIMEZONE
TZID:America/Los_Angeles
X-LIC-LOCATION:America/Los_Angeles
BEGIN:STANDARD
DTSTART:20251102T010000
TZOFFSETFROM:-0700
TZOFFSETTO:-0800
TZNAME:PST
END:STANDARD
BEGIN:DAYLIGHT
DTSTART:20260308T030000
TZOFFSETFROM:-0800
TZOFFSETTO:-0700
TZNAME:PDT
END:DAYLIGHT
END:VTIMEZONE
END:VCALENDAR