BEGIN:VCALENDAR
VERSION:2.0
PRODID:-//wp-events-plugin.com//7.2.3.1//EN
TZID:America/Los_Angeles
X-WR-TIMEZONE:America/Los_Angeles
BEGIN:VEVENT
UID:62@ilsca.com
DTSTART;TZID=America/Los_Angeles:20260117T081500
DTEND;TZID=America/Los_Angeles:20260502T090000
DTSTAMP:20251204T213839Z
URL:https://ilsca.com/events/spanish-parent-and-me-kids-ages-18-mo-3-yr-sa
 t/
SUMMARY:Kids Spanish Parent and Me -  Ages 18 mo - 3 yr\, Sat
DESCRIPTION:Class Information\nAges: For children 18 months to 3 years old.
 \nLanguage Level: All levels welcome — from zero Spanish knowledge to fl
 uent.\nDescription: This class is designed for parents and children to lea
 rn Spanish together through fun\, interactive activities. Parents actively
  participate alongside their child\, supporting language development and b
 onding through shared learning.\nNo Class: Please note\, there will be no 
 class on March 28\nBy registering\, you agree to the terms outlined in our
  Student Agreement and Refund Policy.
ATTACH;FMTTYPE=image/jpeg:https://ilsca.com/wp-content/uploads/2024/12/lea
 rn-Spanish.png
CATEGORIES:Spanish
LOCATION:Pitzer College\, 1050 North Mills ave\, Claremont\, California\, 9
 1711\, United States
X-APPLE-STRUCTURED-LOCATION;VALUE=URI;X-ADDRESS=1050 North Mills ave\, Clar
 emont\, California\, 91711\, United States;X-APPLE-RADIUS=100;X-TITLE=Pitz
 er College:geo:0,0
END:VEVENT
BEGIN:VTIMEZONE
TZID:America/Los_Angeles
X-LIC-LOCATION:America/Los_Angeles
BEGIN:STANDARD
DTSTART:20251102T010000
TZOFFSETFROM:-0700
TZOFFSETTO:-0800
TZNAME:PST
END:STANDARD
BEGIN:DAYLIGHT
DTSTART:20260308T030000
TZOFFSETFROM:-0800
TZOFFSETTO:-0700
TZNAME:PDT
END:DAYLIGHT
END:VTIMEZONE
END:VCALENDAR